BEGIN:VCALENDAR
VERSION:2.0
PRODID:-//wp-events-plugin.com//7.2.3.1//EN
TZID:America/New_York
X-WR-TIMEZONE:America/New_York
BEGIN:VEVENT
UID:29@turfgrasscouncilnc.org
DTSTART;TZID=America/New_York:20260427T080000
DTEND;TZID=America/New_York:20260430T170000
DTSTAMP:20260401T153616Z
URL:https://turfgrasscouncilnc.org/events/2026-nc-state-turfgrass-short-co
 urse/
SUMMARY:2026 NC State Turfgrass Short Course
DESCRIPTION:\n\n\n\n\n\n\n\nCourse Description\n\n\n\n\n\n\n\n\n\n\n\nThis 
 course provides four days of comprehensive turfgrass education and is appr
 opriate for anyone interested in turf\, including homeowners\, career-chan
 gers\, and professionals needing a refresher. Lectures are presented by fa
 culty in NC State’s award-winning turfgrass program\, and cover all aspe
 cts of turfgrass management.\nNC State University offers state-of-the-art 
 classrooms\, intimately sized to allow focused instruction and maximize in
 dividual and group learning success. Turf and weed samples\, fertilizers\,
  and pest control methods are closely examined in the hands-on sessions.\n
 Covering topics from turfgrass selection\, weed identification\, best mana
 gement practices to protect available resources\, and much more\, the NC S
 tate Turfgrass Short Course is a key building block to any turfgrass profe
 ssional’s career. Whether you’re just starting out in the lawn care pr
 ofession\, or you’re a homeowner who wants to learn how to improve your 
 lawn\, the NC State Turfgrass Short Course is the best PRACTICAL how-to ed
 ucation you can get in a one week study program.\n\n\n\n\n\n\n\n\n\n\n\nWh
 o Should Attend\n\n\n\n\n\n\n\n\n\n\n\nThis course is recommended for the 
 following groups of individuals:\n\n\n 	Landscape managers (from single pr
 operty to multiple client operations)\n 	Golf course personnel\n 	Sports T
 urf managers\n 	Master Gardeners\n 	Homeowners\n 	Citizens seeking advance
 d information\n\n\n\n\n\n\n\n\n\n\n\n\n\n\n\n\n\n\n\n\n\n\n\n\n\n\n\n\n\nR
 egistration Fees\n\n\n\n\n\n\n\n\n\n\n\nThis program is held ONLY ONCE a y
 ear and sells out quickly.  Please don't delay in registering.\nSEATING C
 APACITY FOR THIS EVENT IS LIMITED AND YOU MUST REGISTER IN ADVANCE. THER
 E WILL BE NO ON-SITE REGISTRATION.\n\n\n\n\n\n\n\n\n\n\n\nRegular Regist
 ration - $595\nTCNC Member - $545\nExtension Agent - $495\n\n\n\n\n\n\n
 \nRegister Here\n\n
LOCATION:Lonnie Poole Golf Course Clubhouse\, 1509 Main Campus Drive \, Ral
 eigh\, NC \, 27606\, United States
X-APPLE-STRUCTURED-LOCATION;VALUE=URI;X-ADDRESS=1509 Main Campus Drive \, R
 aleigh\, NC \, 27606\, United States;X-APPLE-RADIUS=100;X-TITLE=Lonnie Poo
 le Golf Course Clubhouse:geo:0,0
END:VEVENT
BEGIN:VTIMEZONE
TZID:America/New_York
X-LIC-LOCATION:America/New_York
BEGIN:DAYLIGHT
DTSTART:20260308T030000
TZOFFSETFROM:-0500
TZOFFSETTO:-0400
TZNAME:EDT
END:DAYLIGHT
END:VTIMEZONE
END:VCALENDAR