BEGIN:VCALENDAR
VERSION:2.0
PRODID:-//wp-events-plugin.com//7.2.3.1//EN
TZID:America/New_York
X-WR-TIMEZONE:America/New_York
BEGIN:VEVENT
UID:26@turfgrasscouncilnc.org
DTSTART;TZID=America/New_York:20260812T073000
DTEND;TZID=America/New_York:20260812T140000
DTSTAMP:20260112T201125Z
URL:https://turfgrasscouncilnc.org/events/turfgrass-field-day-raleigh-2/
SUMMARY:Turfgrass Field Day - Raleigh
DESCRIPTION:Use your TCNC Member Number for Discounted Pricing!\n\nWed 8/12
  7:30 AM - 2 PMOfflineEventAttendanceMode\n\n3920 Dr Bill Gilbert Way\, Ra
 leigh\, NC 27603\, USA\n\nFind Registration Information Here.
ATTACH;FMTTYPE=image/jpeg:https://turfgrasscouncilnc.org/wp-content/upload
 s/2026/01/ncce-red-wide-ext-transparent.svg
END:VEVENT
BEGIN:VTIMEZONE
TZID:America/New_York
X-LIC-LOCATION:America/New_York
BEGIN:DAYLIGHT
DTSTART:20260308T030000
TZOFFSETFROM:-0500
TZOFFSETTO:-0400
TZNAME:EDT
END:DAYLIGHT
END:VTIMEZONE
END:VCALENDAR